BEGIN:VCALENDAR
VERSION:2.0
PRODID:spatie/icalendar-generator
DESCRIPTION:Veranstaltungen von Juso Kreisverband Forchheim
X-WR-CALDESC:Veranstaltungen von Juso Kreisverband Forchheim
REFRESH-INTERVAL;VALUE=DURATION:PT1440M
X-PUBLISHED-TTL:PT1440M
BEGIN:VTIMEZONE
TZID:Europe/Berlin
BEGIN:STANDARD
DTSTART:20201025T030000Z
TZOFFSETFROM:+0200
TZOFFSETTO:+0100
END:STANDARD
BEGIN:DAYLIGHT
DTSTART:20210328T020000Z
TZOFFSETFROM:+0100
TZOFFSETTO:+0200
END:DAYLIGHT
BEGIN:STANDARD
DTSTART:20211031T030000Z
TZOFFSETFROM:+0200
TZOFFSETTO:+0100
END:STANDARD
END:VTIMEZONE
BEGIN:VTIMEZONE
TZID:UTC
BEGIN:STANDARD
DTSTART:20250727T190335Z
TZOFFSETFROM:+0000
TZOFFSETTO:+0000
END:STANDARD
END:VTIMEZONE
BEGIN:VEVENT
UID:1003-16
DTSTAMP:20260423T190335Z
SUMMARY:Offenes Treffen
LOCATION:
ORGANIZER;CN=jusosfo:MAILTO:martin.leipert@t-online.de
RRULE:FREQ=MONTHLY;BYDAY=4TH;UNTIL=20220929T000000Z
DTSTART;TZID=Europe/Berlin:20210527T193000
DTEND;TZID=Europe/Berlin:20210527T220000
X-ALT-DESC;FMTTYPE=TEXT/HTML:Wir diskutieren über aktuelle Themen und plan
 en die nächsten Wochen. Die Treffen stehen Interessierten offen.
CATEGORIES:General
URL;VALUE=URI:https://jusosforchheim.de/mc-events/offenes-treffen-4/?mc_id=
 1003
METHOD:PUBLISH
END:VEVENT
END:VCALENDAR